BEGIN:VCALENDAR
VERSION:2.0
PRODID:-//viveka gardens - ECPv6.15.5//NONSGML v1.0//EN
CALSCALE:GREGORIAN
METHOD:PUBLISH
X-ORIGINAL-URL:https://vivekagardens.com
X-WR-CALDESC:Events for viveka gardens
REFRESH-INTERVAL;VALUE=DURATION:PT1H
X-Robots-Tag:noindex
X-PUBLISHED-TTL:PT1H
BEGIN:VTIMEZONE
TZID:Europe/London
BEGIN:DAYLIGHT
TZOFFSETFROM:+0000
TZOFFSETTO:+0100
TZNAME:BST
DTSTART:20250330T010000
END:DAYLIGHT
BEGIN:STANDARD
TZOFFSETFROM:+0100
TZOFFSETTO:+0000
TZNAME:GMT
DTSTART:20251026T010000
END:STANDARD
END:VTIMEZONE
BEGIN:VEVENT
DTSTART;TZID=Europe/London:20250911T140000
DTEND;TZID=Europe/London:20250915T120000
DTSTAMP:20260421T111021
CREATED:20241103T032820Z
LAST-MODIFIED:20241103T040115Z
UID:10970-1757599200-1757937600@vivekagardens.com
SUMMARY:Silent retreat - a meditation and yoga retreat summer into autumn
DESCRIPTION:A five-day-four-night retreat for women with an established meditation/contemplation practice and content with silence. \nTake time to go deeper with group sessions morning and evening\, two gently embodying yoga practices each day\, walks and secluded spots on the land here. \nGently and minimally held\, this retreat gives you space with your enquiry. VG offers Good vegan food\, simple and cosy accommodation\, time in nature. Option for a 1-1 spiritual accompaniment conversation included. \nPossibility to stay another night or two B&B self-guided to integrate @£80\, with option to work 1-1 with Fiona. \nThis could make a nice pair with the Silent retreat in April\, from one side of the summer to the other. \nIf you are a beginner or doubt your capacity to be comfortable with silence\, consider the Quiet Retreat. \nViveka Gardens is keen to make yoga available to all – bursaries for those on benefit/low income. Please contact to discuss \nBOOKING FORM
URL:https://vivekagardens.com/event/silent-retreat-a-meditation-and-yoga-retreat-september/
LOCATION:Viveka Gardens Retreat Place\, Viveka Gardens\, West Leigh\, Crediton\, Devon\, EX17 6BL\, United Kingdom
CATEGORIES:Residential Retreat
ORGANIZER;CN="Fiona Law":MAILTO:Fiona.law2023@outlook.com
END:VEVENT
BEGIN:VEVENT
DTSTART;TZID=Europe/London:20250801T140000
DTEND;TZID=Europe/London:20250803T120000
DTSTAMP:20260421T111021
CREATED:20241103T032737Z
LAST-MODIFIED:20250123T145102Z
UID:10966-1754056800-1754222400@vivekagardens.com
SUMMARY:Embracing Elderhood - yoga and meditation retreat at Lammas
DESCRIPTION:A three-day-two-night retreat for women 55+ to explore how ‘older and wiser’ plays out for you\, and embrace your elderhood with positivity. \nGain insight and clarity about your ways of being\, relating\, serving and enjoying with morning meditation\, four gently embodying yoga practices\, circle and journalling. \nVG offers good vegan food\, simple and cosy accommodation\, time in nature and space for yourself. Option for 1-1 coaching session included. \nPossibility to stay another night B&B self-guided to integrate @£80\, with option to further work 1-1 with Fiona. \nFull info  \nViveka Gardens is keen to make yoga available to all – bursaries for those on benefit/low income. Please contact to discuss \nBOOKING FORM
URL:https://vivekagardens.com/event/embracing-elderhood-yoga-and-meditation-retreat-at-lammas/
LOCATION:Viveka Gardens Retreat Place\, Viveka Gardens\, West Leigh\, Crediton\, Devon\, EX17 6BL\, United Kingdom
CATEGORIES:Residential Retreat
ORGANIZER;CN="Fiona Law":MAILTO:Fiona.law2023@outlook.com
END:VEVENT
BEGIN:VEVENT
DTSTART;TZID=Europe/London:20250620T140000
DTEND;TZID=Europe/London:20250622T120000
DTSTAMP:20260421T111021
CREATED:20241103T034954Z
LAST-MODIFIED:20241103T035226Z
UID:10964-1750428000-1750593600@vivekagardens.com
SUMMARY:Perimenopause - yoga and coaching retreat at summer solstice
DESCRIPTION:A three-day-two-night retreat for women who want to see this change as an opportunity to grow into the next stage of life with curiosity\, creativity and consciousness. \nMake space for your soul to explore and vision what next with morning meditation\, with four gently embodying yoga practices\, circle and journalling. VG offers good vegan food\, simple and cosy accommodation\, time in nature and space for yourself. Option for 1-1 coaching session included. \nPossibility to stay another one or two nights B&B @£80 self-guided to integrate; option to work 1-1 with Fiona. \nIn due course\, another time\, consider the Embracing Elderhood Retreat \nViveka Gardens is keen to make yoga available to all – bursaries for those on benefit/low income Please contact to discuss \nBOOKING FORM
URL:https://vivekagardens.com/event/perimenopause-yoga-and-coaching-retreat-at-summer-solstice/
CATEGORIES:Residential Retreat
END:VEVENT
BEGIN:VEVENT
DTSTART;TZID=Europe/London:20250523T140000
DTEND;TZID=Europe/London:20250525T120000
DTSTAMP:20260421T111021
CREATED:20241103T033014Z
LAST-MODIFIED:20241103T033146Z
UID:10962-1748008800-1748174400@vivekagardens.com
SUMMARY:Transitions - yoga and coaching retreat
DESCRIPTION:A three-day-two-night retreat for women to creatively find their way through life and circumstance changes. \nIt could be some kind of loss (work\, relationship\, bereavement or health\, for instance) or simply feeling stuck and wanting to make a change. \nGain insight and vision with morning meditation\, four gently embodying yoga practices\, circle and journalling. \nVG offers good vegan food\, simple and cosy accommodation\, time in nature and space for yourself. Option for 1-1 coaching session included. \nPossibility to stay another night B&B self-guided to integrate @£80\, with option to work further 1-1 with Fiona. \nIn due course\, another time\, consider the Visions Retreat \nViveka Gardens is keen to make yoga available to all – bursaries for those on benefit/low income Please contact to discuss \nBOOKING FORM
URL:https://vivekagardens.com/event/transitions-yoga-and-coaching-retreat/
LOCATION:Viveka Gardens Retreat Place\, Viveka Gardens\, West Leigh\, Crediton\, Devon\, EX17 6BL\, United Kingdom
CATEGORIES:Residential Retreat
ORGANIZER;CN="Fiona Law":MAILTO:Fiona.law2023@outlook.com
END:VEVENT
BEGIN:VEVENT
DTSTART;TZID=Europe/London:20250502T140000
DTEND;TZID=Europe/London:20250504T120000
DTSTAMP:20260421T111021
CREATED:20241103T033612Z
LAST-MODIFIED:20241103T034703Z
UID:10960-1746194400-1746360000@vivekagardens.com
SUMMARY:Quiet Retreat - yoga and meditation retreat at Beltane
DESCRIPTION:A three-day-two night retreat for women who want to start or re-establish a meditation practice\, and would look forward to a retreat with extended times of group silence. \nLearn to still the mind with sessions on core techniques with practice\, two gently embodying practices each day to aid inner stillness and meditation walks. secluded spots on the land here. \nVG offers secluded spots on the land here\, good vegan food\, simple and cosy accommodation\, time in nature and space for yourself. Option for 1-1 spirituanel accompaniment included. \nPossibility to stay another one or two nights B&B self-guided to integrate; option to work 1-1 with Fiona. \nIn due course\, another time\, consider the Silent Retreat \nViveka Gardens is keen to make yoga available to all – bursaries for those on benefit/low income. Please contact to discuss \nBOOKING FORM
URL:https://vivekagardens.com/event/quiet-retreat-yoga-and-meditation-retreat-at-beltane/
LOCATION:Viveka Gardens Retreat Place\, Viveka Gardens\, West Leigh\, Crediton\, Devon\, EX17 6BL\, United Kingdom
CATEGORIES:Residential Retreat
ORGANIZER;CN="Fiona Law":MAILTO:Fiona.law2023@outlook.com
END:VEVENT
END:VCALENDAR