BEGIN:VCALENDAR
VERSION:2.0
PRODID:-//viveka gardens - ECPv6.15.5//NONSGML v1.0//EN
CALSCALE:GREGORIAN
METHOD:PUBLISH
X-ORIGINAL-URL:https://vivekagardens.com
X-WR-CALDESC:Events for viveka gardens
REFRESH-INTERVAL;VALUE=DURATION:PT1H
X-Robots-Tag:noindex
X-PUBLISHED-TTL:PT1H
BEGIN:VTIMEZONE
TZID:Europe/London
BEGIN:DAYLIGHT
TZOFFSETFROM:+0000
TZOFFSETTO:+0100
TZNAME:BST
DTSTART:20240331T010000
END:DAYLIGHT
BEGIN:STANDARD
TZOFFSETFROM:+0100
TZOFFSETTO:+0000
TZNAME:GMT
DTSTART:20241027T010000
END:STANDARD
END:VTIMEZONE
BEGIN:VEVENT
DTSTART;TZID=Europe/London:20241102T100000
DTEND;TZID=Europe/London:20241102T160000
DTSTAMP:20260421T161340
CREATED:20241025T103011Z
LAST-MODIFIED:20241025T103011Z
UID:10942-1730541600-1730563200@vivekagardens.com
SUMMARY:Quiet Day
DESCRIPTION:This is a day to be mainly in silence together\nNature has gone into seeming dormancy and dead leaves are composting…but already acorns have been buried and the hazel and the alder have made their spring catkins\, still tightly bundled but ready to go.  In this still quiet time\, what is composting and coming next? \nYou are invited to drop your daily routine and social chatter \nWith gentle yoga\, nurturing restorative yoga\, yoga nidra\, meditation walk\, quiet sitting and journaling\, we’ll go within. Each activity will be gently guided the minimum needed. There will be opening\, midday checking in and closing circles for each to share their aims for the day\, insights and resolves. \nProcess It may be that you choose to sit with a theme of personal enquiry\, or simply open yourself to what is composting or waiting to come out of dormancy.  You will be heard and the space held in a safe\, non-judgemental\, non-advice giving and confidential way. But this is not in any way counselling or group therapy. \nFor the day you will need\n\nnotebook\neye pillow (optional)\nscarf to put between your face and various cushions and bolsters in restorative\nlayers of clothes and extra\, woolly socks\noutdoor waterproof boots (wellies ideal) and coat\n\nAll equipment is here. If you bring your own\, please only from a pet-free home\, thanks. \nBest to leave jewellery outside the studio\, or at home\, and leave off make up. \nFiona is a trained and experienced facilitator of restorative and nidra. Based at her Viveka Gardens Retreat Place in Mid Devon\, she brings nature and season-based visualisations to nidra. \nViveka Gardens is keen to make yoga available to all – bursaries for those on benefit/low income Please contact to discuss \nSign up to the newsletter to be sure of knowing about events \nThe quiet day retreat at Viveka was utterly wonderful. I’ve been to yoga retreats and workshops all over the world and I feel so grateful to have found such a special place on my doorstep in Devon. Fiona held space beautifully for the group and we were able to relax into deep practice at the physical and emotional level. It was also wonderful to be fed such beautiful nourishing food. It was a much needed day of repose and rest and I will be back as soon as possible! Veronica\, North Tawton \nViveka…a calm sanctuary to restore balance\, a safe space to feel heard and reconnect to yourself. Fiona has a wealth of knowledge and supported me to deeply relax and give myself some much needed inner focus. Wholesome food\, nurturing space. Highly recommend Laura\, Okehampton \nI love coming back here as it always allows me to drop back to my true self. Viveka Gardens offers back to basics essentials: good food\, good company and delicious yoga practices. It’s a sanctuary away from everyday life and allows the opportunity to stop\, reflect and have real introspection.  Sharon\, Bristol
URL:https://vivekagardens.com/event/quiet-day/
LOCATION:Viveka Gardens Retreat Place\, Viveka Gardens\, West Leigh\, Crediton\, Devon\, EX17 6BL\, United Kingdom
CATEGORIES:Day Retreat
ATTACH;FMTTYPE=image/jpeg:https://vivekagardens.com/wp-content/uploads/2023/08/Quiet-Day-21st-November-2.jpg
ORGANIZER;CN="Fiona Law":MAILTO:Fiona.law2023@outlook.com
END:VEVENT
END:VCALENDAR